BEGIN:VCALENDAR
VERSION:2.0
PRODID:-//Cross State High School Collaborative - ECPv6.15.18//NONSGML v1.0//EN
CALSCALE:GREGORIAN
METHOD:PUBLISH
X-WR-CALNAME:Cross State High School Collaborative
X-ORIGINAL-URL:https://www.hsredesign.org
X-WR-CALDESC:Events for Cross State High School Collaborative
REFRESH-INTERVAL;VALUE=DURATION:PT1H
X-Robots-Tag:noindex
X-PUBLISHED-TTL:PT1H
BEGIN:VTIMEZONE
TZID:UTC
BEGIN:STANDARD
TZOFFSETFROM:+0000
TZOFFSETTO:+0000
TZNAME:UTC
DTSTART:20200101T000000
END:STANDARD
END:VTIMEZONE
BEGIN:VEVENT
DTSTART;TZID=UTC:20211203T150000
DTEND;TZID=UTC:20211203T160000
DTSTAMP:20260423T112833
CREATED:20210811T160951Z
LAST-MODIFIED:20210811T160951Z
UID:6478-1638543600-1638547200@www.hsredesign.org
SUMMARY:Connection Conversation Cafe
DESCRIPTION:Register for the Free Event at: https://zoom.us/meeting/register/tJwvdemorDojEtVE–gdGkddQ1RlWYUHkSOW
URL:https://www.hsredesign.org/event/connection-conversation-cafe-3/
CATEGORIES:Conversation Cafe
ORGANIZER;CN="CSHSC":MAILTO:infor@hsredesign.org
END:VEVENT
END:VCALENDAR