BEGIN:VCALENDAR
VERSION:2.0
PRODID:-//Cross State High School Collaborative - ECPv6.15.18//NONSGML v1.0//EN
CALSCALE:GREGORIAN
METHOD:PUBLISH
X-WR-CALNAME:Cross State High School Collaborative
X-ORIGINAL-URL:https://www.hsredesign.org
X-WR-CALDESC:Events for Cross State High School Collaborative
REFRESH-INTERVAL;VALUE=DURATION:PT1H
X-Robots-Tag:noindex
X-PUBLISHED-TTL:PT1H
BEGIN:VTIMEZONE
TZID:UTC
BEGIN:STANDARD
TZOFFSETFROM:+0000
TZOFFSETTO:+0000
TZNAME:UTC
DTSTART:20200101T000000
END:STANDARD
END:VTIMEZONE
BEGIN:VEVENT
DTSTART;TZID=UTC:20211215T150000
DTEND;TZID=UTC:20211215T163000
DTSTAMP:20260423T084013
CREATED:20210811T161752Z
LAST-MODIFIED:20211008T154347Z
UID:6485-1639580400-1639585800@www.hsredesign.org
SUMMARY:School Team Design Time
DESCRIPTION:High School Redesign Teams bring your students to explore the design question – If there were no constraints\, how would we have work and learning each supported? \nRegister in advance for this meeting:  https://zoom.us/meeting/register/tJclduyvpjgiGtQxu2hOIDqViLhZm-JX2NjD
URL:https://www.hsredesign.org/event/school-team-design-time-2/
CATEGORIES:School Design
END:VEVENT
BEGIN:VEVENT
DTSTART;TZID=UTC:20211209T150000
DTEND;TZID=UTC:20211209T163000
DTSTAMP:20260423T084013
CREATED:20210811T161557Z
LAST-MODIFIED:20211008T154136Z
UID:6483-1639062000-1639067400@www.hsredesign.org
SUMMARY:School Team Design Time
DESCRIPTION:High School Redesign Teams bring your students and let’s explore the design question – If there were no constraints\, how would we design our high school schedule – what would be your individual schedule? \nRegister in advance for this meeting:  https://zoom.us/meeting/register/tJApcemvpj4rE9Zq6FtEK8GEH8dRFo5tHJCJ
URL:https://www.hsredesign.org/event/school-team-design-time/
CATEGORIES:School Design
ORGANIZER;CN="CSHSC":MAILTO:infor@hsredesign.org
END:VEVENT
END:VCALENDAR